BEGIN:VCALENDAR
VERSION:2.0
PRODID:-//hacksw/handcal//NONSGML v1.0//EN
BEGIN:VEVENT
DTSTART:20230415T090000
DTEND:20230423T170000
LOCATION:ELTE Füvészkert \nIllés u. 25. \n1083 Budapest
ORGANIZER;CN=Alumni Központ:MAILTO:reg@alumni.elte.hu
SUMMARY:Sakura ünnep az ELTE Füvészkertben
DESCRIPTION:Az ELTE Füvészkertben már sok éve hagyomány az évente megrendezett Sakura ünnep, amely mindig az áprilisi japán cseresznyefa virágzáshoz, Japán tradicionális ünnepéhez, az Ohanamihoz kapcsolódik. Idén...
URL:https://www.alumni.elte.hu/hu/event/sakura-unnep-az-elte-fuveszkertben/2023/04/15/1064
BEGIN:VALARM
TRIGGER:-P0DT1H0M0S
ACTION:DISPLAY
END:VALARM
END:VEVENT
END:VCALENDAR