BEGIN:VCALENDAR
VERSION:2.0
PRODID:-//hacksw/handcal//NONSGML v1.0//EN
BEGIN:VEVENT
DTSTART:20230419T183000
DTEND:20230419T200000
LOCATION:ELTE Aula Magna (1053 Budapest, Egyetem tér 1-3.) \nEgyetem tér 1-3. \n1053 Budapest
ORGANIZER;CN=Alumni Központ:MAILTO:reg@alumni.elte.hu
SUMMARY:ELTE Sikerek: Szathmáry Eörs
DESCRIPTION:Az Egyetem hírneves volt hallgatói beszélnek munkásságukról és jelen törekvéseikről, ELTE-s kötődéseikről, valamint sikerről, értékekről és karrierépítésről azon az előadás-sorozaton, amelyet ELTE...
URL:https://www.alumni.elte.hu/hu/event/elte-sikerek-szathmary-eors/2023/04/19/1046
BEGIN:VALARM
TRIGGER:-P0DT1H0M0S
ACTION:DISPLAY
END:VALARM
END:VEVENT
END:VCALENDAR