BEGIN:VCALENDAR
VERSION:2.0
PRODID:-//hacksw/handcal//NONSGML v1.0//EN
BEGIN:VEVENT
DTSTART:20230308T193000
DTEND:20230308T220000
LOCATION:ELTE Aula Magna (Egyetem tér 1-3., I. em.) \nEgyetem tér 1-3. \n1053 Budapest
ORGANIZER;CN=Alumni Központ:MAILTO:reg@alumni.elte.hu
SUMMARY:Beethoven-est
DESCRIPTION:2023. március 8-án (szerdán) este fél 8-kor kerül megrendezésre az ELTE Egyetemi Koncertzenekar önálló estje, amelyre minden alumnust szeretettel várnak.A hangverseny helyszínéül az ELTE Aula Magna,...
URL:https://www.alumni.elte.hu/hu/event/beethoven-est/2023/03/08/1039
BEGIN:VALARM
TRIGGER:-P0DT1H0M0S
ACTION:DISPLAY
END:VALARM
END:VEVENT
END:VCALENDAR