BEGIN:VCALENDAR
VERSION:2.0
PRODID:-//hacksw/handcal//NONSGML v1.0//EN
BEGIN:VEVENT
DTSTART:20221130T180000
DTEND:20221130T193000
LOCATION:ELTE BTK Gólyavár Mária Terézia terem \nMúzeum krt. 4.  \n1088 Budapest
ORGANIZER;CN=Alumni Központ:MAILTO:reg@alumni.elte.hu
SUMMARY:Gólyavári Esték: Széchenyi és Kossuth
DESCRIPTION:Csorba László (BTK '79) "Széchenyi és Kossuth. Kinek volt/van igaza egy 170 éves vitában?" című előadásával folytatódik az ELTE Bölcsészettudományi Karának "Gólyavári Esték" című sorozata.Talán...
URL:https://www.alumni.elte.hu/hu/event/golyavari-estek-szechenyi-es-kossuth/2022/11/30/1017
BEGIN:VALARM
TRIGGER:-P0DT1H0M0S
ACTION:DISPLAY
END:VALARM
END:VEVENT
END:VCALENDAR