BEGIN:VCALENDAR
VERSION:2.0
PRODID:-//hacksw/handcal//NONSGML v1.0//EN
BEGIN:VEVENT
DTSTART:20221130T180000
DTEND:20221130T193000
LOCATION:ELTE TTK Déli Tömb, Szabó József terem (0-803) \nPázmány Péter sétány 1/C. \n1117 Budapest
ORGANIZER;CN=Alumni Központ:MAILTO:reg@alumni.elte.hu
SUMMARY:Afrika peremén - Szenegál
DESCRIPTION:A Földrajzos klub sorozata Mari László (TTK '97) előadásával folytatódik 2022. november 30-án 18:00-tól helyszínen és online formában is. A program témája Szenegál lesz.Az Atlanti-óceán partvidékén...
URL:https://www.alumni.elte.hu/hu/event/afrika-peremen-szenegal/2022/11/30/1016
BEGIN:VALARM
TRIGGER:-P0DT1H0M0S
ACTION:DISPLAY
END:VALARM
END:VEVENT
END:VCALENDAR