BEGIN:VCALENDAR
VERSION:2.0
PRODID:-//hacksw/handcal//NONSGML v1.0//EN
BEGIN:VEVENT
DTSTART:20221201T180000
DTEND:20221201T200000
LOCATION:ELTE TTK Ásványtár \n1/C, Pázmány Péter sétány  \n1117  BUDAPEST
ORGANIZER;CN=Alumni Központ:MAILTO:reg@alumni.elte.hu
SUMMARY:Az Egyetem megnyitja kapuit: Ásványtár
DESCRIPTION:Tartson velünk Ön is az idei év utolsó Egyetem megnyitja kapuit rendezvényén, amelyet 2022. december 1-jén rendezünk meg a varázslatos Ásványtárban! A tár történelme 1774-ig nyúlik vissza, amikor is...
URL:https://www.alumni.elte.hu/hu/event/az-egyetem-megnyitja-kapuit-asvanytar/2022/12/01/1000
BEGIN:VALARM
TRIGGER:-P0DT1H0M0S
ACTION:DISPLAY
END:VALARM
END:VEVENT
END:VCALENDAR