BEGIN:VCALENDAR
VERSION:2.0
PRODID:-//hacksw/handcal//NONSGML v1.0//EN
BEGIN:VEVENT
DTSTART:20221019T140000
DTEND:20221019T150000
LOCATION:ELTE PPK Kazy Aula \nKazinczy u. 23-27. \n1075 Budapest
ORGANIZER;CN=Alumni Központ:MAILTO:reg@alumni.elte.hu
SUMMARY:A zene pszichológiája
DESCRIPTION:2022-ben is folytatódik a 2012-ben indított Harmadik Kor Egyeteme előadássorozat, amelynek továbbra is az ELTE PPK Kazinczy utcai épületének Aulája ad otthont. A sorozat minden alkalma 14.00-15.00...
URL:https://www.alumni.elte.hu/en/event/a-zene-pszichologiaja/2022/10/19/974
BEGIN:VALARM
TRIGGER:-P0DT1H0M0S
ACTION:DISPLAY
END:VALARM
END:VEVENT
END:VCALENDAR