BEGIN:VCALENDAR
VERSION:2.0
PRODID:-//hacksw/handcal//NONSGML v1.0//EN
BEGIN:VEVENT
DTSTART:20220420T175500
DTEND:20220420T180000
LOCATION:ELTE TTK Szabó József terem 0.803 \nPázmány Péter sétány 1/C \n1117 Budapest
ORGANIZER;CN=Alumni Központ:MAILTO:reg@alumni.elte.hu
SUMMARY:Vissza a jégkorszakba!
DESCRIPTION:Nagy Balázs geográfus 300 antarktiszi napról tart előadást a Földrajzos Klubban 2022. április 20-án.Nagy Balázs (TTK '02, '12) alumnusunk, egyetemi adjunktus az ELTE Földrajztudományi Központ...
URL:https://www.alumni.elte.hu/en/event/vissza-a-jegkorszakba/2022/04/20/852
BEGIN:VALARM
TRIGGER:-P0DT1H0M0S
ACTION:DISPLAY
END:VALARM
END:VEVENT
END:VCALENDAR