BEGIN:VCALENDAR
VERSION:2.0
PRODID:-//hacksw/handcal//NONSGML v1.0//EN
BEGIN:VEVENT
DTSTART:20220428T100000
DTEND:20220428T180000
LOCATION:ELTE Lágymányosi Campus Gömb Aula \nPázmány Péter sétány 1/A \n1117 Budapest
ORGANIZER;CN=Alumni Központ:MAILTO:reg@alumni.elte.hu
SUMMARY:ELTE karriernap 2022
DESCRIPTION:Végzősök és frissdiplomások a porondon! Karriernapot tart az ELTE 2022. április 28-án, a Lágymányosi Campus Gömb Aulájában. Az eseményre a fiatal érdeklődők mellett a kiállítók jelentkezését is...
URL:https://www.alumni.elte.hu/en/event/elte-karriernap-2022/2022/04/28/849
BEGIN:VALARM
TRIGGER:-P0DT1H0M0S
ACTION:DISPLAY
END:VALARM
END:VEVENT
END:VCALENDAR