BEGIN:VCALENDAR
VERSION:2.0
PRODID:-//hacksw/handcal//NONSGML v1.0//EN
BEGIN:VEVENT
DTSTART:20220214T180000
DTEND:20220214T190000
LOCATION:Kelet Kávézó és Galéria \nBartók Béla út 29.  \n1114 Budapest
ORGANIZER;CN=Bölcsészettudományi Kar ELTE - BTK Alumni Tagozat:MAILTO:kommunikacio@btk.elte.hu
SUMMARY:Léteznek-e még birodalmak?
DESCRIPTION:Folytatódik az ELTE Filozófia Intézet Világnézetünk Alapjai című beszélgetéssorozata.Léteznek-e még ma birodalmak? És ha igen, mi teszi őket azzá? Lehet-e helyük, szerepük a nemzetközi térben? Többek ...
URL:https://www.alumni.elte.hu/en/group/btk-alumni-tagozat/30/calendar/leteznek-e-meg-birodalmak/2022/02/14/784
BEGIN:VALARM
TRIGGER:-P0DT1H0M0S
ACTION:DISPLAY
END:VALARM
END:VEVENT
END:VCALENDAR