BEGIN:VCALENDAR
VERSION:2.0
PRODID:-//hacksw/handcal//NONSGML v1.0//EN
BEGIN:VEVENT
DTSTART:20211203T180000
DTEND:20211203T210000
LOCATION:ELTE Aula Magna (1053 Budapest, Egyetem tér 1-3.) \nEgyetem tér 1-3. \n1053 Budapest
ORGANIZER;CN=Alumni Központ:MAILTO:reg@alumni.elte.hu
SUMMARY:ELTE Alumni Charity Opera Night
DESCRIPTION:The ELTE Alumni Center and ELTE Alumni Foundation are organizing a Charity Opera Night on 3 December at 18:00 - with a great lineup! There are many ways to support the Alumni events and organizations ...
URL:https://www.alumni.elte.hu/en/event/elte-alumni-charity-opera-night/2021/12/03/750
BEGIN:VALARM
TRIGGER:-P0DT1H0M0S
ACTION:DISPLAY
END:VALARM
END:VEVENT
END:VCALENDAR