BEGIN:VCALENDAR
VERSION:2.0
PRODID:-//hacksw/handcal//NONSGML v1.0//EN
BEGIN:VEVENT
DTSTART:20211117T090000
DTEND:20211118T160000
LOCATION:
ORGANIZER;CN=Alumni Központ:MAILTO:reg@alumni.elte.hu
SUMMARY:Karriernap Online 2021. november
DESCRIPTION:2021. november 17. és 18. között online karriernapot tart a Karrierközpont, ahova várják az ELTE alumnusait is!Beszélgessen, tájékozódjon, és közben gyűjtse be a cégektől a kódokat a garantált...
URL:https://www.alumni.elte.hu/en/event/karriernap-online-2021-november/2021/11/17/722
BEGIN:VALARM
TRIGGER:-P0DT1H0M0S
ACTION:DISPLAY
END:VALARM
END:VEVENT
END:VCALENDAR