BEGIN:VCALENDAR
VERSION:2.0
PRODID:-//hacksw/handcal//NONSGML v1.0//EN
BEGIN:VEVENT
DTSTART:20211009T190000
DTEND:20211009T210500
LOCATION:ELTE Aula Magna \nEgyetem tér 1-3. \n1053 Budapest
ORGANIZER;CN=Alumni Központ:MAILTO:reg@alumni.elte.hu
SUMMARY:Covid fan tutte! - Alumni opera night
DESCRIPTION:On 9 October 2021 at 19.00 an opera night will take place at the ELTE Aula Magna. The organizer of the evening is opera singer, Tamás Clementis. Gabriella Jakupcsek (Faculty of Humanities '90) will be...
URL:https://www.alumni.elte.hu/en/event/covid-fan-tutte-alumni-opera-night/2021/10/09/692
BEGIN:VALARM
TRIGGER:-P0DT1H0M0S
ACTION:DISPLAY
END:VALARM
END:VEVENT
END:VCALENDAR