BEGIN:VCALENDAR
VERSION:2.0
PRODID:-//hacksw/handcal//NONSGML v1.0//EN
BEGIN:VEVENT
DTSTART:20210923T170500
DTEND:20210923T181000
LOCATION:ELTE Lágymányos \n1, Pázmány Péter sétány \n1117 BUDAPEST
ORGANIZER;CN=Alumni Központ:MAILTO:reg@alumni.elte.hu
SUMMARY:40. 5vös 5km Futóverseny
DESCRIPTION:Szeptember 23-án 40. alkalommal rajtol el a Lágymányos Campus ikonikus sporteseménye. Induljon ELTE Alumni kategóriában!A futóversenyre idén is várjuk az ELTE volt hallgatóit. Az ELTE Alumni...
URL:https://www.alumni.elte.hu/en/event/40-5vos-5km-futoverseny/2021/09/23/691
BEGIN:VALARM
TRIGGER:-P0DT1H0M0S
ACTION:DISPLAY
END:VALARM
END:VEVENT
END:VCALENDAR