BEGIN:VCALENDAR
VERSION:2.0
PRODID:-//hacksw/handcal//NONSGML v1.0//EN
BEGIN:VEVENT
DTSTART:20210224T173000
DTEND:20210224T190000
LOCATION:https://www.youtube.com/watch?v=AM7-B2XLQtg
ORGANIZER;CN=Alumni Központ:MAILTO:reg@alumni.elte.hu
SUMMARY:ELTE Sikerek: Prószéky Gábor
DESCRIPTION:Hírneves, az ELTE falai közül kikerült volt hallgatók beszélnek munkásságukról és jelen törekvéseikről,  ELTE-s kötődéseikről, valamint sikerről, értékekről és karrierépítésről azon az...
URL:https://www.alumni.elte.hu/en/event/elte-sikerek-proszeky-gabor/2021/02/24/569
BEGIN:VALARM
TRIGGER:-P0DT1H0M0S
ACTION:DISPLAY
END:VALARM
END:VEVENT
END:VCALENDAR