BEGIN:VCALENDAR
VERSION:2.0
PRODID:-//hacksw/handcal//NONSGML v1.0//EN
BEGIN:VEVENT
DTSTART:20200429T183000
DTEND:20200429T200000
LOCATION:ELTE Aula Magna - élő közvetítés \nEgyetem tér 1-3. \n1053 Budapest
ORGANIZER;CN=Melinda Zoller - PPK Alumni Tagozat:MAILTO:zoller.melinda@ppk.elte.hu
SUMMARY:ELTE Sikerek: Pléh Csaba
DESCRIPTION:REGISZTRÁCIÓHírneves, az ELTE falai közül kikerült volt hallgatók beszélnek munkásságukról és jelen törekvéseikről, ELTE-s kötődéseikről, valamint sikerről, értékekről és karrierépítésről azon az...
URL:https://www.alumni.elte.hu/en/group/ppk-alumni-tagozat/29/calendar/elte-sikerek-pleh-csaba/2020/04/29/440
BEGIN:VALARM
TRIGGER:-P0DT1H0M0S
ACTION:DISPLAY
END:VALARM
END:VEVENT
END:VCALENDAR