BEGIN:VCALENDAR
VERSION:2.0
PRODID:-//hacksw/handcal//NONSGML v1.0//EN
BEGIN:VEVENT
DTSTART:20250908T090000
DTEND:20250912T190000
LOCATION:ELTE BEAC és külső helyszínek
ORGANIZER;CN=Alumni Központ:MAILTO:reg@alumni.elte.hu
SUMMARY:ELTE Sport7 2025 ősz
DESCRIPTION:Ingyenes évkezdő sporthetet tart a BEAC - ELTE Diplomásoknak is - 2025. szeptember 8-12. között. Próbálj ki közel 40 sportágat teljesen INGYEN szeptember 8-12. között a BEAC-on és még számos...
URL:https://www.alumni.elte.hu/en/event/elte-sport7-2025-osz/2025/09/08/1590
BEGIN:VALARM
TRIGGER:-P0DT1H0M0S
ACTION:DISPLAY
END:VALARM
END:VEVENT
END:VCALENDAR