BEGIN:VCALENDAR
VERSION:2.0
PRODID:-//hacksw/handcal//NONSGML v1.0//EN
BEGIN:VEVENT
DTSTART:20250501T120000
DTEND:20250501T230000
LOCATION:Körösi Csoma Sándor Kollégium \nDayka Gábor u 4. \n1118 Budapest
ORGANIZER;CN=Katalin Kiss - Egyetemi Kollégiumi Alumni Tagozat:MAILTO:kiss.katalin@kancellaria.elte.hu
SUMMARY:Budaörsi Napok - Majális
DESCRIPTION:Az idén 45. alkalommal megrendezésre kerülő Budaörsi Napok május 1-jére az ELTE polgárait, az ELTE Diplomásokat, családjaikat, barátjaikat is megmozgató eseményt szerveznek. Színes programmal minden...
URL:https://www.alumni.elte.hu/en/group/egyetemi-kollegiumi-alumni-tagozat/36/calendar/budaorsi-napok-majalis/2025/05/01/1538
BEGIN:VALARM
TRIGGER:-P0DT1H0M0S
ACTION:DISPLAY
END:VALARM
END:VEVENT
END:VCALENDAR