BEGIN:VCALENDAR
VERSION:2.0
PRODID:-//hacksw/handcal//NONSGML v1.0//EN
BEGIN:VEVENT
DTSTART:20250506T170500
DTEND:20250506T180500
LOCATION:ELTE Lágymányos \n1, Pázmány Péter sétány \n1117 BUDAPEST
ORGANIZER;CN=Alumni Központ:MAILTO:reg@alumni.elte.hu
SUMMARY:47. 5vös 5km Futóverseny
DESCRIPTION:Idén 2025. május 6-án rajtol el a Lágymányosi Campus ikonikus sporteseménye, 47. alkalommal, és újfent ELTE Alumni kategóriával!\nAz idei futóversenyre is visszavárjuk volt hallgatóinkat. Az ELTE...
URL:https://www.alumni.elte.hu/en/event/47-5vos-5km-futoverseny/2025/05/06/1476
BEGIN:VALARM
TRIGGER:-P0DT1H0M0S
ACTION:DISPLAY
END:VALARM
END:VEVENT
END:VCALENDAR