BEGIN:VCALENDAR
VERSION:2.0
PRODID:-//hacksw/handcal//NONSGML v1.0//EN
BEGIN:VEVENT
DTSTART:20241127T093000
DTEND:20241127T153000
LOCATION:Aula Magna \nEgyetem tér 1-3. \n1053 Budapest
ORGANIZER;CN=Alumni Központ:MAILTO:reg@alumni.elte.hu
SUMMARY:ELTE Innovációs Nap 2024
DESCRIPTION:Innovációs napot tart az ELTE 2024. november 27-én, ahol a Társadalmi Innovációs Nemzeti Laboratórium is bemutatkozik. Az esemény mottója: „Partnerségeink az innovációban”, így a témába vágó...
URL:https://www.alumni.elte.hu/en/event/elte-innovacios-nap-2024/2024/11/27/1381
BEGIN:VALARM
TRIGGER:-P0DT1H0M0S
ACTION:DISPLAY
END:VALARM
END:VEVENT
END:VCALENDAR