BEGIN:VCALENDAR
VERSION:2.0
PRODID:-//hacksw/handcal//NONSGML v1.0//EN
BEGIN:VEVENT
DTSTART:20240615T110000
DTEND:20240615T123000
LOCATION:ELTE Füvészkert \nIllés u. 25. \n1083 Budapest
ORGANIZER;CN=Alumni Központ:MAILTO:reg@alumni.elte.hu
SUMMARY:Mit beszél az erdő?
DESCRIPTION:A Füvészkert tematikus sétájának középpontjában ezúttal a fák kommunikációja áll.Van-e a fának legjobb barátja? Tudja-e a fa, hogy az erdőben nem egyedül van, hanem más fákkal, bokrokkal, füvekkel,...
URL:https://www.alumni.elte.hu/en/event/mit-beszel-az-erdo/2024/06/15/1307
BEGIN:VALARM
TRIGGER:-P0DT1H0M0S
ACTION:DISPLAY
END:VALARM
END:VEVENT
END:VCALENDAR