BEGIN:VCALENDAR
VERSION:2.0
PRODID:-//hacksw/handcal//NONSGML v1.0//EN
BEGIN:VEVENT
DTSTART:20240523T140000
DTEND:20240523T160000
LOCATION:
ORGANIZER;CN=Alumni International - International Alumni Chapter:MAILTO:international.alumni@elte.hu
SUMMARY:Creating and delivering effective presentations in English
DESCRIPTION:We are inviting you to a lecture with the ELTE Alumni Academy. Sign up for an interactive online workshop about presentasion skills and how to become more effective.Date and time: 23 May, 2024. 14:00 ...
URL:https://www.alumni.elte.hu/en/group/international-alumni-chapter/105/calendar/creating-and-delivering-effective-presentations-in-english/2024/05/23/1273
BEGIN:VALARM
TRIGGER:-P0DT1H0M0S
ACTION:DISPLAY
END:VALARM
END:VEVENT
END:VCALENDAR