BEGIN:VCALENDAR
VERSION:2.0
PRODID:-//hacksw/handcal//NONSGML v1.0//EN
BEGIN:VEVENT
DTSTART:20240425T100000
DTEND:20240425T180000
LOCATION:ELTE Lágymános Gömb Aula \n1/A, Pázmány Péter sétány \n1117 BUDAPEST
ORGANIZER;CN=Alumni Központ:MAILTO:reg@alumni.elte.hu
SUMMARY:ELTE Karriernap 2024
DESCRIPTION:Karriernapot szervez az ELTE Karrierközpont április 25-én a Lágymányosi Campus Gömb Aulájában. Az eseményre várnak minden ELTE Diplomást is szeretettel!Beszélgess, tájékozódj, és közben ne maradj le a...
URL:https://www.alumni.elte.hu/en/event/elte-karriernap-2024/2024/04/25/1264
BEGIN:VALARM
TRIGGER:-P0DT1H0M0S
ACTION:DISPLAY
END:VALARM
END:VEVENT
END:VCALENDAR