BEGIN:VCALENDAR
VERSION:2.0
PRODID:-//hacksw/handcal//NONSGML v1.0//EN
BEGIN:VEVENT
DTSTART:20240403T190000
DTEND:20240403T220000
LOCATION:ELTE Aula Magna (Egyetem tér 1-3., I. em.) \nEgyetem tér 1-3.  \n1053 Budapest
ORGANIZER;CN=Alumni Központ:MAILTO:reg@alumni.elte.hu
SUMMARY:42. Matematikus Hangverseny
DESCRIPTION:42. alkalommal kerül megrendezésre a Matematikus Hangverseny 2024. április 3-án 19 órakor az Egyetem dísztermében. Az ELTE oktatóinak és hallgatónak, valamint volt hallgatóinak ingyenes koncertjén...
URL:https://www.alumni.elte.hu/en/event/42-matematikus-hangverseny/2024/04/03/1246
BEGIN:VALARM
TRIGGER:-P0DT1H0M0S
ACTION:DISPLAY
END:VALARM
END:VEVENT
END:VCALENDAR