BEGIN:VCALENDAR
VERSION:2.0
PRODID:-//hacksw/handcal//NONSGML v1.0//EN
BEGIN:VEVENT
DTSTART:20240229T193000
DTEND:20240229T210000
LOCATION:ELTE Aula Magna (Egyetem tér 1-3., I. em.) \nEgyetem tér 1-3. \n1053 Budapest
ORGANIZER;CN=Alumni Központ:MAILTO:reg@alumni.elte.hu
SUMMARY:ELTE zenekari est
DESCRIPTION:Hangversenyt rendez az ELTE Eötvös Művészeti Együttes 2024. február 29-én Rolla János Kossuth-díjas hegedűművész emlékére az Egyetem dísztermében. Alumni Kártyával rendelkező volt hallgatóink a...
URL:https://www.alumni.elte.hu/en/event/elte-zenekari-est/2024/02/29/1230
BEGIN:VALARM
TRIGGER:-P0DT1H0M0S
ACTION:DISPLAY
END:VALARM
END:VEVENT
END:VCALENDAR