BEGIN:VCALENDAR
VERSION:2.0
PRODID:-//hacksw/handcal//NONSGML v1.0//EN
BEGIN:VEVENT
DTSTART:20230929T180000
DTEND:20230930T040000
LOCATION:ELTE
ORGANIZER;CN=Alumni Központ:MAILTO:reg@alumni.elte.hu
SUMMARY:Kutatók Éjszakája 2023
DESCRIPTION:A Kutatók Éjszakája egy Európa-szerte megrendezett ingyenes eseménysorozat a tudomány és a kutatói életpálya népszerűsítésére, így itthon is. Egyetemünkön - szinte valamennyi karon - szeptember 29-ről...
URL:https://www.alumni.elte.hu/en/event/kutatok-ejszakaja-2023/2023/09/29/1154
BEGIN:VALARM
TRIGGER:-P0DT1H0M0S
ACTION:DISPLAY
END:VALARM
END:VEVENT
END:VCALENDAR