BEGIN:VCALENDAR
VERSION:2.0
PRODID:-//hacksw/handcal//NONSGML v1.0//EN
BEGIN:VEVENT
DTSTART:20230513T100000
DTEND:20230513T120000
LOCATION:ELTE Trefort-kert \n6-8, Múzeum körút \n1088 BUDAPEST
ORGANIZER;CN=Alumni Központ:MAILTO:reg@alumni.elte.hu
SUMMARY:Velünk élő múlt
DESCRIPTION:Az Egyetem megnyitja kapuit sétasorozat koncepciójába illő kulturális programot ajánlunk: Kultúrtörténeti séta a Trefort-kertben az Emlékhelyek Napján, 2023. május 13-án. A Trefort-kert az újkori...
URL:https://www.alumni.elte.hu/en/event/velunk-elo-mult/2023/05/13/1105
BEGIN:VALARM
TRIGGER:-P0DT1H0M0S
ACTION:DISPLAY
END:VALARM
END:VEVENT
END:VCALENDAR