BEGIN:VCALENDAR
VERSION:2.0
PRODID:-//hacksw/handcal//NONSGML v1.0//EN
BEGIN:VEVENT
DTSTART:20230509T170500
DTEND:20230509T180500
LOCATION:ELTE Lágymányos \n1, Pázmány Péter sétány \n1117 BUDAPEST
ORGANIZER;CN=Alumni Központ:MAILTO:reg@alumni.elte.hu
SUMMARY:43. 5vös 5km Futóverseny
DESCRIPTION:2023. május 9-én 43. alkalommal rajtol el a Lágymányosi Campus ikonikus sporteseménye. Induljon ELTE Alumni kategóriában!A futóversenyre idén is várjuk az ELTE volt hallgatóit. Az ELTE Alumni...
URL:https://www.alumni.elte.hu/en/event/43-5vos-5km-futoverseny/2023/05/09/1101
BEGIN:VALARM
TRIGGER:-P0DT1H0M0S
ACTION:DISPLAY
END:VALARM
END:VEVENT
END:VCALENDAR