BEGIN:VCALENDAR
VERSION:2.0
PRODID:-//hacksw/handcal//NONSGML v1.0//EN
BEGIN:VEVENT
DTSTART:20230328T170000
DTEND:20230328T183000
LOCATION:ELTE BTK B épület 172-es előadó
ORGANIZER;CN=Alumni Központ:MAILTO:reg@alumni.elte.hu
SUMMARY:Hogyan lehetek "én is" jókor jóhelyen? - Limpár Imre előadása
DESCRIPTION:Hogyan lehetek "én is" jókor jóhelyen? - Érvényesülések pszichológiai szemmel című előadásával folytatja sorozatát Limpár Imre (PPK '08, '11), a Karrierközpont szervezésében.Hányszor hallottuk már a...
URL:https://www.alumni.elte.hu/en/event/hogyan-lehetek-en-is-jokor-johelyen-limpar-imre-eloadasa/2023/03/28/1053
BEGIN:VALARM
TRIGGER:-P0DT1H0M0S
ACTION:DISPLAY
END:VALARM
END:VEVENT
END:VCALENDAR