BEGIN:VCALENDAR
VERSION:2.0
PRODID:-//hacksw/handcal//NONSGML v1.0//EN
BEGIN:VEVENT
DTSTART:20221202T180000
DTEND:20221202T200000
LOCATION:ELTE Aula Magna \nEgyetem tér 1-3. \n1053 Budapest
ORGANIZER;CN=Alumni Központ:MAILTO:reg@alumni.elte.hu
SUMMARY:ELTE Alumni Est / Hála Gála
DESCRIPTION:Ünnepeljünk együtt! Az ELTE Alumni Est témája idén a hála, amit szeretnénk kifejezni azok felé, akik az elmúlt 5-6 év során tevőlegesen hozzájárultak az ELTE Alumni fejlődéséhez. Szeretettel hívjuk,...
URL:https://www.alumni.elte.hu/en/event/elte-alumni-est-hala-gala/2022/12/02/1009
BEGIN:VALARM
TRIGGER:-P0DT1H0M0S
ACTION:DISPLAY
END:VALARM
END:VEVENT
END:VCALENDAR